BEGIN:VCALENDAR
VERSION:2.0
PRODID:Imitheme.com
BEGIN:VEVENT
UID:20260422T091121-1892708619
DTSTAMP;TZID=UTC:1776849081
DTSTART;TZID=America/Los_Angeles:20260422T091121
DTEND;TZID=America/Los_Angeles:20260422T091121
SUMMARY:Nouvel AN
LOCATION:
DESCRIPTION: https://notredamedeainsebaa.ma/eventer/nouvel-an/
URL:https://notredamedeainsebaa.ma/eventer/nouvel-an/
END:VEVENT
END:VCALENDAR
